BEGIN:VCALENDAR
VERSION:2.0
PRODID:-//BusyMac LLC//BusyCal 2.6.5//EN
CALSCALE:GREGORIAN
X-WR-TIMEZONE:Europe/Luxembourg
X-WR-CALNAME:FROGS 2015
X-WR-CALDESC:FROGS events in 2015
X-WR-RELCALID:FDBD8046-A719-4BDB-A5D7-8B6CD956456B
X-APPLE-CALENDAR-COLOR:#E51717
BEGIN:VTIMEZONE
TZID:Europe/Luxembourg
BEGIN:DAYLIGHT
DTSTART:20140330T020000
TZOFFSETTO:+0200
TZOFFSETFROM:+0100
RRULE:FREQ=YEARLY;BYDAY=-1SU;BYMONTH=3
TZNAME:CEST
END:DAYLIGHT
BEGIN:STANDARD
DTSTART:20141026T030000
TZOFFSETTO:+0100
TZOFFSETFROM:+0200
RRULE:FREQ=YEARLY;BYDAY=-1SU;BYMONTH=10
TZNAME:CET
END:STANDARD
END:VTIMEZONE
BEGIN:VTIMEZONE
TZID:Europe/Berlin
BEGIN:DAYLIGHT
DTSTART:20140330T020000
TZOFFSETTO:+0200
TZOFFSETFROM:+0100
RRULE:FREQ=YEARLY;BYDAY=-1SU;BYMONTH=3
TZNAME:CEST
END:DAYLIGHT
BEGIN:STANDARD
DTSTART:20141026T030000
TZOFFSETTO:+0100
TZOFFSETFROM:+0200
RRULE:FREQ=YEARLY;BYDAY=-1SU;BYMONTH=10
TZNAME:CET
END:STANDARD
END:VTIMEZONE
BEGIN:VEVENT
DTSTART;TZID=Europe/Berlin:20140423T170000
DTEND;TZID=Europe/Berlin:20140423T210000
SUMMARY:Citco Round 1
DESCRIPTION:40 EUR for non members
LOCATION:Kikuoka
UID:1CA6275C-8556-409A-88FB-81FDA59C904B
DTSTAMP:20150316T114822Z
LAST-MODIFIED:20140507T082811Z
X-BUSYMAC-LASTMODBY:Have Jess
END:VEVENT
BEGIN:VEVENT
DTSTART;TZID=Europe/Berlin:20140507T170000
DTEND;TZID=Europe/Berlin:20140507T210000
SUMMARY:Citco Round 2
DESCRIPTION:33 EUR for non members
LOCATION:Preisch (Luxembourg)
UID:AD9C9B0F-A809-47C6-98BE-E5616E5F9058
DTSTAMP:20150316T114822Z
LAST-MODIFIED:20140507T082811Z
X-BUSYMAC-LASTMODBY:Have Jess
ATTACH:https:
 //cdn4.iconfinder.com/data/icons/ios-7-sports-activity/70/Golf_Swing-256.p
 ng
END:VEVENT
BEGIN:VEVENT
DTSTART;TZID=Europe/Berlin:20140723T170000
DTEND;TZID=Europe/Berlin:20140723T210000
SUMMARY:Citco Round 9
DESCRIPTION:40 EUR for non members
LOCATION:Kikuoka
UID:F5A8B5DC-57F6-4C25-9AB7-85E14398D0BC
DTSTAMP:20150316T114822Z
LAST-MODIFIED:20140507T082811Z
X-BUSYMAC-LASTMODBY:Have Jess
ATTACH:https:
 //cdn4.iconfinder.com/data/icons/ios-7-sports-activity/70/Golf_Swing-256.p
 ng
END:VEVENT
BEGIN:VEVENT
DTSTART;TZID=Europe/Berlin:20140716T170000
DTEND;TZID=Europe/Berlin:20140716T210000
SUMMARY:Citco Round 8
DESCRIPTION:42 EUR (12 holes) for non members
LOCATION:Junglinster
UID:1DB9D4EC-A5E6-4FB8-AA8B-2D56327DCD45
DTSTAMP:20150316T114822Z
LAST-MODIFIED:20140507T082811Z
X-BUSYMAC-LASTMODBY:Have Jess
ATTACH:https:
 //cdn4.iconfinder.com/data/icons/ios-7-sports-activity/70/Golf_Swing-256.p
 ng
END:VEVENT
BEGIN:VEVENT
DTSTART;TZID=Europe/Berlin:20140813T170000
DTEND;TZID=Europe/Berlin:20140813T210000
SUMMARY:Citabel 3 club challenge
DESCRIPTION:40 EUR for non members
LOCATION:Kikuoka
UID:D924243B-468C-4E87-B458-AA2437A8102D
DTSTAMP:20150316T114822Z
CREATED:20140725T194004Z
LAST-MODIFIED:20140811T145646Z
X-BUSYMAC-LASTMODBY:Jess Have
ATTACH:https:
 //cdn4.iconfinder.com/data/icons/ios-7-sports-activity/70/Golf_Swing-256.p
 ng
BEGIN:VALARM
UID:0CD6E2A5-99BE-43BC-94DC-FBE14071CE1C
ACKNOWLEDGED:20140813T153816Z
TRIGGER;VALUE=DURATION:-PT1H
ACTION:DISPLAY
DESCRIPTION:
END:VALARM
END:VEVENT
BEGIN:VEVENT
DTSTART;TZID=Europe/Berlin:20140702T170000
DTEND;TZID=Europe/Berlin:20140702T210000
SUMMARY:Citco Round 7
DESCRIPTION:33 EUR or non members
LOCATION:Preisch ( Germany)
UID:10E79673-5A31-437B-AEDE-B0D023698DD6
DTSTAMP:20150316T114822Z
LAST-MODIFIED:20140507T082811Z
X-BUSYMAC-LASTMODBY:Have Jess
ATTACH:https:
 //cdn4.iconfinder.com/data/icons/ios-7-sports-activity/70/Golf_Swing-256.p
 ng
END:VEVENT
BEGIN:VEVENT
DTSTART;TZID=Europe/Berlin:20140618T170000
DTEND;TZID=Europe/Berlin:20140618T210000
SUMMARY:Citco Round 5
DESCRIPTION:33 EUR for non members
LOCATION:Preisch (France)
UID:94823352-6139-489A-BFCF-29EA0E94DDF4
DTSTAMP:20150316T114822Z
LAST-MODIFIED:20140507T082811Z
X-BUSYMAC-LASTMODBY:Have Jess
ATTACH:https:
 //cdn4.iconfinder.com/data/icons/ios-7-sports-activity/70/Golf_Swing-256.p
 ng
END:VEVENT
BEGIN:VEVENT
DTSTART;TZID=Europe/Berlin:20140709T170000
DTEND;TZID=Europe/Berlin:20140709T210000
SUMMARY:MixVoip Pairs
DESCRIPTION:40 EUR for non members
LOCATION:Kikuoka
UID:80CE7224-F9FE-47B4-81B6-35E6D5ECADA6
DTSTAMP:20150316T114822Z
LAST-MODIFIED:20140507T082811Z
X-BUSYMAC-LASTMODBY:Have Jess
ATTACH:https:
 //cdn4.iconfinder.com/data/icons/ios-7-sports-activity/70/Golf_Swing-256.p
 ng
END:VEVENT
BEGIN:VEVENT
DTSTART;TZID=Europe/Berlin:20140521T170000
DTEND;TZID=Europe/Berlin:20140521T210000
SUMMARY:Citco Round 3
DESCRIPTION:40 EUR for non members
LOCATION:Kikuoka
UID:D5542EE8-10E5-4003-8850-F93C9A06EA79
DTSTAMP:20150316T114822Z
LAST-MODIFIED:20140507T082811Z
X-BUSYMAC-LASTMODBY:Have Jess
ATTACH:https:
 //cdn4.iconfinder.com/data/icons/ios-7-sports-activity/70/Golf_Swing-256.p
 ng
END:VEVENT
BEGIN:VEVENT
DTSTART;TZID=Europe/Berlin:20140604T170000
DTEND;TZID=Europe/Berlin:20140604T210000
SUMMARY:Citco Round 4
DESCRIPTION:42 EUR (12 holes) for non members
LOCATION:Junglinster
UID:B5787996-369B-4881-AB52-DCC084A69E9C
DTSTAMP:20150316T114822Z
LAST-MODIFIED:20140507T082811Z
X-BUSYMAC-LASTMODBY:Have Jess
ATTACH:https:
 //cdn4.iconfinder.com/data/icons/ios-7-sports-activity/70/Golf_Swing-256.p
 ng
END:VEVENT
BEGIN:VEVENT
DTSTART;TZID=Europe/Berlin:20140625T170000
DTEND;TZID=Europe/Berlin:20140625T210000
SUMMARY:Citco Round 6
DESCRIPTION:42 EUR (12 holes) for non members
LOCATION:Junglinster
UID:FD8CF046-2CFE-401C-8F47-5CF9C58F5614
DTSTAMP:20150316T114822Z
LAST-MODIFIED:20140507T082811Z
X-BUSYMAC-LASTMODBY:Have Jess
ATTACH:https:
 //cdn4.iconfinder.com/data/icons/ios-7-sports-activity/70/Golf_Swing-256.p
 ng
END:VEVENT
BEGIN:VEVENT
DTSTART;TZID=Europe/Berlin:20140802T080000
DTEND;TZID=Europe/Berlin:20140802T140000
SUMMARY:Ryder Cup - Frogs v GH
DESCRIPTION:Pricing for non members: TBA
LOCATION:Kikuoka
UID:3FD4CA58-7A26-4CC5-93FA-41CBE0E03636
DTSTAMP:20150316T114822Z
LAST-MODIFIED:20140507T082811Z
X-BUSYMAC-LASTMODBY:Have Jess
ATTACH:https:
 //cdn4.iconfinder.com/data/icons/ios-7-sports-activity/70/Golf_Swing-256.p
 ng
END:VEVENT
BEGIN:VEVENT
DTSTART;TZID=Europe/Berlin:20140731T170000
DTEND;TZID=Europe/Berlin:20140731T210000
SUMMARY:Citco Round 10
DESCRIPTION:45 EUR for non members
LOCATION:Grand Ducal
UID:5A1C5AA8-153B-4290-B57E-4E5124361C2B
DTSTAMP:20150316T114822Z
LAST-MODIFIED:20140507T082811Z
X-BUSYMAC-LASTMODBY:Have Jess
ATTACH:https:
 //cdn4.iconfinder.com/data/icons/ios-7-sports-activity/70/Golf_Swing-256.p
 ng
END:VEVENT
BEGIN:VEVENT
DTSTART;TZID=Europe/Luxembourg:20150422T170000
DTEND;TZID=Europe/Luxembourg:20150422T220000
SUMMARY:CITCO - round 1
DESCRIPTION:www.frogs.lu
LOCATION:Kikuoka
UID:77386054-CEF2-4EF4-A45F-8F21ABC87E6E
DTSTAMP:20150316T114822Z
CREATED:20150316T113759Z
LAST-MODIFIED:20150316T113855Z
X-BUSYMAC-LASTMODBY:Have Jess
BEGIN:VALARM
UID:E8B54D11-476F-4D74-93DD-E80734427793
X-APPLE-DEFAULT-ALARM:TRUE
TRIGGER;VALUE=DURATION:-PT1H
ACTION:AUDIO
ATTACH;VALUE=URI:Glass
END:VALARM
END:VEVENT
BEGIN:VEVENT
DTSTART;TZID=Europe/Luxembourg:20150603T170000
DTEND;TZID=Europe/Luxembourg:20150603T220000
SUMMARY:CITCO - round 4
DESCRIPTION:www.frogs.lu
LOCATION:Junglinster
UID:97642C31-CF0E-45FA-90BA-084DFA2EA0C5
DTSTAMP:20150316T114822Z
CREATED:20150316T113938Z
LAST-MODIFIED:20150316T114202Z
X-BUSYMAC-LASTMODBY:Have Jess
BEGIN:VALARM
UID:6D982223-76EE-4858-AA24-B97A4CFCB1B0
X-APPLE-DEFAULT-ALARM:TRUE
TRIGGER;VALUE=DURATION:-PT1H
ACTION:AUDIO
ATTACH;VALUE=URI:Glass
END:VALARM
END:VEVENT
BEGIN:VEVENT
DTSTART;TZID=Europe/Luxembourg:20150506T170000
DTEND;TZID=Europe/Luxembourg:20150506T220000
SUMMARY:CITCO - round 2
DESCRIPTION:www.frogs.lu
LOCATION:Preisch (Luxembourg)
UID:51165FF4-262F-4730-B222-703EA71D0F95
DTSTAMP:20150316T114822Z
CREATED:20150316T113938Z
LAST-MODIFIED:20150316T114053Z
X-BUSYMAC-LASTMODBY:Have Jess
BEGIN:VALARM
UID:7FBAD16F-48BD-447E-9F0A-7F9BE106797A
X-APPLE-DEFAULT-ALARM:TRUE
TRIGGER;VALUE=DURATION:-PT1H
ACTION:AUDIO
ATTACH;VALUE=URI:Glass
END:VALARM
END:VEVENT
BEGIN:VEVENT
DTSTART;TZID=Europe/Luxembourg:20150805T170000
DTEND;TZID=Europe/Luxembourg:20150805T220000
SUMMARY:CITCO - round 9
DESCRIPTION:www.frogs.lu
LOCATION:Junglinster
UID:2328EE8F-3872-4E04-8870-37B1C255E7F5
DTSTAMP:20150316T114822Z
CREATED:20150316T113938Z
LAST-MODIFIED:20150316T114424Z
X-BUSYMAC-LASTMODBY:Have Jess
BEGIN:VALARM
UID:D3607745-FE60-42C7-B74C-15F86FA5F543
X-APPLE-DEFAULT-ALARM:TRUE
TRIGGER;VALUE=DURATION:-PT1H
ACTION:AUDIO
ATTACH;VALUE=URI:Glass
END:VALARM
END:VEVENT
BEGIN:VEVENT
DTSTART;TZID=Europe/Luxembourg:20150722T170000
DTEND;TZID=Europe/Luxembourg:20150722T220000
SUMMARY:CITCO - round 8
DESCRIPTION:www.frogs.lu
LOCATION:Kikuoka
UID:A19AB13D-1148-42E9-BABE-873362D2A06E
DTSTAMP:20150316T114822Z
CREATED:20150316T113938Z
LAST-MODIFIED:20150316T114359Z
X-BUSYMAC-LASTMODBY:Have Jess
BEGIN:VALARM
UID:D6232642-A880-464B-A974-4D2A350358A3
X-APPLE-DEFAULT-ALARM:TRUE
TRIGGER;VALUE=DURATION:-PT1H
ACTION:AUDIO
ATTACH;VALUE=URI:Glass
END:VALARM
END:VEVENT
BEGIN:VEVENT
DTSTART;TZID=Europe/Luxembourg:20150624T170000
DTEND;TZID=Europe/Luxembourg:20150624T220000
SUMMARY:CITCO - round 6
DESCRIPTION:www.frogs.lu
LOCATION:Junglinster
UID:2A537F50-9C4A-4436-99A3-B7C7C8678E97
DTSTAMP:20150316T114822Z
CREATED:20150316T113938Z
LAST-MODIFIED:20150316T114308Z
X-BUSYMAC-LASTMODBY:Have Jess
BEGIN:VALARM
UID:5B7B32CA-F88C-444C-810B-256BD543C2B2
X-APPLE-DEFAULT-ALARM:TRUE
TRIGGER;VALUE=DURATION:-PT1H
ACTION:AUDIO
ATTACH;VALUE=URI:Glass
END:VALARM
END:VEVENT
BEGIN:VEVENT
DTSTART;TZID=Europe/Luxembourg:20150701T170000
DTEND;TZID=Europe/Luxembourg:20150701T220000
SUMMARY:CITCO - round 7
DESCRIPTION:www.frogs.lu
LOCATION:Preisch (Luxembourg)
UID:D055F0DF-1896-487C-B877-E8000B3BEA2A
DTSTAMP:20150316T114822Z
CREATED:20150316T113938Z
LAST-MODIFIED:20150316T114337Z
X-BUSYMAC-LASTMODBY:Have Jess
BEGIN:VALARM
UID:D771FA6A-3E9F-4B2F-A2D3-3BA7179A7BED
X-APPLE-DEFAULT-ALARM:TRUE
TRIGGER;VALUE=DURATION:-PT1H
ACTION:AUDIO
ATTACH;VALUE=URI:Glass
END:VALARM
END:VEVENT
BEGIN:VEVENT
DTSTART;TZID=Europe/Luxembourg:20150617T170000
DTEND;TZID=Europe/Luxembourg:20150617T220000
SUMMARY:CITCO - round 5
DESCRIPTION:www.frogs.lu
LOCATION:Preisch (France)
UID:5F2B479E-5638-4286-8FF5-686E397DF640
DTSTAMP:20150316T114822Z
CREATED:20150316T113938Z
LAST-MODIFIED:20150316T114253Z
X-BUSYMAC-LASTMODBY:Have Jess
BEGIN:VALARM
UID:2F5D2392-DC16-4249-A588-1FF6FA4FE75E
X-APPLE-DEFAULT-ALARM:TRUE
TRIGGER;VALUE=DURATION:-PT1H
ACTION:AUDIO
ATTACH;VALUE=URI:Glass
END:VALARM
END:VEVENT
BEGIN:VEVENT
DTSTART;TZID=Europe/Luxembourg:20150715T170000
DTEND;TZID=Europe/Luxembourg:20150715T220000
SUMMARY:MIXVOIP Pairs
LOCATION:Junglinster
UID:3A597AFB-A55C-41AE-974F-5B5F0D16BE15
DTSTAMP:20150316T114822Z
CREATED:20150316T114511Z
LAST-MODIFIED:20150316T114634Z
X-BUSYMAC-LASTMODBY:Have Jess
BEGIN:VALARM
UID:3CE2F357-EC7F-4E7A-9700-D9B7FAC38844
X-APPLE-DEFAULT-ALARM:TRUE
TRIGGER;VALUE=DURATION:-PT1H
ACTION:AUDIO
ATTACH;VALUE=URI:Glass
END:VALARM
END:VEVENT
BEGIN:VEVENT
DTSTART;TZID=Europe/Luxembourg:20150729T170000
DTEND;TZID=Europe/Luxembourg:20150729T220000
SUMMARY:Citabel 3 Club Challenge
LOCATION:Kikuoka
UID:A725366C-73FA-4D4A-A76B-0353A8639C9E
DTSTAMP:20150316T114822Z
CREATED:20150316T114558Z
LAST-MODIFIED:20150316T114626Z
X-BUSYMAC-LASTMODBY:Have Jess
BEGIN:VALARM
UID:38F251A9-AD07-448B-A58F-5B27EADFFF4D
X-APPLE-DEFAULT-ALARM:TRUE
TRIGGER;VALUE=DURATION:-PT1H
ACTION:AUDIO
ATTACH;VALUE=URI:Glass
END:VALARM
END:VEVENT
BEGIN:VEVENT
DTSTART;TZID=Europe/Luxembourg:20150819T170000
DTEND;TZID=Europe/Luxembourg:20150819T220000
SUMMARY:CITCO - round 10
DESCRIPTION:www.frogs.lu
LOCATION:Kikuoka
UID:650BC231-C328-4E87-87AE-62AE9F50B3AC
DTSTAMP:20150316T114822Z
CREATED:20150316T113938Z
LAST-MODIFIED:20150316T114705Z
X-BUSYMAC-LASTMODBY:Have Jess
BEGIN:VALARM
UID:7185EF0C-F50A-4118-9703-332A655E07BD
X-APPLE-DEFAULT-ALARM:TRUE
TRIGGER;VALUE=DURATION:-PT1H
ACTION:AUDIO
ATTACH;VALUE=URI:Glass
END:VALARM
END:VEVENT
BEGIN:VEVENT
DTSTART;TZID=Europe/Luxembourg:20150829T090000
DTEND;TZID=Europe/Luxembourg:20150829T170000
SUMMARY:KPMG Individual
LOCATION:Kikuoka
UID:E8579462-DA55-45BC-B054-FAD2E6874667
DTSTAMP:20150316T114822Z
CREATED:20150316T114721Z
LAST-MODIFIED:20150316T114746Z
X-BUSYMAC-LASTMODBY:Have Jess
BEGIN:VALARM
UID:B79506F8-2C5A-416E-9E8D-AC7B66B8062C
X-APPLE-DEFAULT-ALARM:TRUE
TRIGGER;VALUE=DURATION:-PT1H
ACTION:AUDIO
ATTACH;VALUE=URI:Glass
END:VALARM
END:VEVENT
END:VCALENDAR
