BEGIN:VCALENDAR
VERSION:2.0
PRODID:-//BusyMac LLC//BusyCal 3.2.5//EN
CALSCALE:GREGORIAN
X-WR-TIMEZONE:Europe/Luxembourg
X-WR-CALNAME:FROGS 2018
X-WR-RELCALID:57F3811D-A252-426E-A7F5-41C5A1339F24
X-APPLE-CALENDAR-COLOR:#800000
BEGIN:VTIMEZONE
TZID:Europe/Luxembourg
BEGIN:DAYLIGHT
DTSTART:20180325T020000
TZOFFSETTO:+0200
TZOFFSETFROM:+0100
RRULE:FREQ=YEARLY;BYDAY=-1SU;BYMONTH=3
TZNAME:CEST
END:DAYLIGHT
BEGIN:STANDARD
DTSTART:20181028T030000
TZOFFSETTO:+0100
TZOFFSETFROM:+0200
RRULE:FREQ=YEARLY;BYDAY=-1SU;BYMONTH=10
TZNAME:CET
END:STANDARD
END:VTIMEZONE
BEGIN:VEVENT
DTSTART;TZID=Europe/Luxembourg:20180526T090000
DTEND;TZID=Europe/Luxembourg:20180526T170000
SUMMARY:Casa4Funds Individual
DESCRIPTION:Individual championship
LOCATION:Kikuoka Country Club\nScheierhaff\n5412 Lenningen\nLuxembourg
UID:764DEE83-52EE-4597-86D1-A04FA2790150
DTSTAMP:20180326T094425Z
CREATED:20180326T091407Z
LAST-MODIFIED:20180326T092214Z
X-BUSYMAC-LASTMODBY:Have Jess
X-APPLE-STRUCTURED-LOCATION;VALUE=URI;X-APPLE-RADIUS=1110.935318;
 X-TITLE=Kikuoka Country Club\nScheierhaff\n5412 Lenningen\nLuxembourg:geo:
 49.593014,6.313636
BEGIN:VALARM
UID:E9794209-6C0D-4BF5-93F9-5BF386AA885A
TRIGGER;VALUE=DURATION:-PT1H
ACTION:AUDIO
ATTACH;VALUE=URI:Basso
END:VALARM
END:VEVENT
BEGIN:VEVENT
DTSTART;TZID=Europe/Luxembourg:20180725T170000
DTEND;TZID=Europe/Luxembourg:20180725T230000
SUMMARY:Bijnens Beer 3 club challenge
LOCATION:Kikuoka Country Club\nScheierhaff\n5412 Lenningen\nLuxembourg
UID:15CDF9D8-7CE0-4A07-9EF7-58C7097CAF65
DTSTAMP:20180326T094425Z
CREATED:20180326T091523Z
LAST-MODIFIED:20180326T092144Z
X-BUSYMAC-LASTMODBY:Have Jess
X-APPLE-STRUCTURED-LOCATION;VALUE=URI;X-APPLE-RADIUS=1110.935318;
 X-TITLE=Kikuoka Country Club\nScheierhaff\n5412 Lenningen\nLuxembourg:geo:
 49.593014,6.313636
BEGIN:VALARM
UID:5249A401-00FA-4264-B0F6-78236B5B7EAE
TRIGGER;VALUE=DURATION:-PT1H
ACTION:AUDIO
ATTACH;VALUE=URI:Basso
END:VALARM
END:VEVENT
BEGIN:VEVENT
DTSTART;TZID=Europe/Luxembourg:20181006T190000
DTEND;TZID=Europe/Luxembourg:20181006T235900
SUMMARY:Dinner
LOCATION:Bodega\nRue du Curé 5A\n1368 Luxembourg\nLuxembourg
UID:6C76E245-24BB-48F9-B0B1-C91E96DBC8D7
DTSTAMP:20180326T094425Z
CREATED:20180326T091953Z
LAST-MODIFIED:20180326T092026Z
X-BUSYMAC-LASTMODBY:Have Jess
X-APPLE-STRUCTURED-LOCATION;VALUE=URI;X-APPLE-RADIUS=141.175068;
 X-TITLE=Bodega\nRue du Curé 5A\n1368 Luxembourg\nLuxembourg:geo:
 49.611408,6.131286
BEGIN:VALARM
UID:5E9E803D-FF93-474E-866A-1C5EEFDBF5EB
TRIGGER;VALUE=DURATION:-PT1H
ACTION:AUDIO
ATTACH;VALUE=URI:Basso
END:VALARM
END:VEVENT
BEGIN:VEVENT
DTSTART;TZID=Europe/Luxembourg:20180613T170000
DTEND;TZID=Europe/Luxembourg:20180613T230000
SUMMARY:MIXVoip Pairs
LOCATION:Golf De Belenhaff\nGolf de Luxembourg Belenhaff\nBelenhaff\n6141 
 Junglinster\nLuxembourg
UID:4134ED69-3015-4796-B7D5-F8FF9B81258B
DTSTAMP:20180326T094425Z
CREATED:20180326T091606Z
LAST-MODIFIED:20180326T092208Z
X-BUSYMAC-LASTMODBY:Have Jess
X-APPLE-STRUCTURED-LOCATION;VALUE=URI;X-APPLE-RADIUS=705.888416;
 X-TITLE=Golf De Belenhaff\nGolf de Luxembourg Belenhaff\nBelenhaff\n6141 
 Junglinster\nLuxembourg:geo:49.732586,6.253615
BEGIN:VALARM
UID:C3F7C121-5157-44D4-8F5B-50CA0BE5B0BD
TRIGGER;VALUE=DURATION:-PT1H
ACTION:AUDIO
ATTACH;VALUE=URI:Basso
END:VALARM
END:VEVENT
BEGIN:VEVENT
DTSTART;TZID=Europe/Luxembourg:20180630T090000
DTEND;TZID=Europe/Luxembourg:20180630T170000
SUMMARY:KCIT (Kick Cancer Into Touch)
UID:9E4ACCF1-ECA3-470F-BF29-FC89055BA127
DTSTAMP:20180326T094425Z
CREATED:20180326T091708Z
LAST-MODIFIED:20180326T092200Z
X-BUSYMAC-LASTMODBY:Have Jess
BEGIN:VALARM
UID:FA2F2BC3-5AA0-4043-84E9-D6E8B373D6F3
TRIGGER;VALUE=DURATION:-PT1H
ACTION:AUDIO
ATTACH;VALUE=URI:Basso
END:VALARM
END:VEVENT
BEGIN:VEVENT
DTSTART;TZID=Europe/Luxembourg:20180620T170000
DTEND;TZID=Europe/Luxembourg:20180620T230000
SUMMARY:Sixth CITCO event
LOCATION:Kikuoka Country Club\nScheierhaff\n5412 Lenningen\nLuxembourg
UID:B668E8D8-7856-4740-96FA-73C66688EE75
DTSTAMP:20180326T094425Z
CREATED:20180326T090836Z
LAST-MODIFIED:20180326T092204Z
X-BUSYMAC-LASTMODBY:Have Jess
X-APPLE-STRUCTURED-LOCATION;VALUE=URI;X-APPLE-RADIUS=1110.935318;
 X-TITLE=Kikuoka Country Club\nScheierhaff\n5412 Lenningen\nLuxembourg:geo:
 49.593014,6.313636
BEGIN:VALARM
UID:E686CE99-321B-4C48-8C25-8E996F333F83
TRIGGER;VALUE=DURATION:-PT1H
ACTION:AUDIO
ATTACH;VALUE=URI:Basso
END:VALARM
END:VEVENT
BEGIN:VEVENT
DTSTART;TZID=Europe/Luxembourg:20180704T170000
DTEND;TZID=Europe/Luxembourg:20180704T230000
SUMMARY:Seventh CITCO event
DESCRIPTION:12 holes. First nine count for the CITCO event.
LOCATION:Golf De Belenhaff\nGolf de Luxembourg Belenhaff\nBelenhaff\n6141 
 Junglinster\nLuxembourg
UID:4856A36D-6BF5-4694-81FE-3DAD815ABC33
DTSTAMP:20180326T094425Z
CREATED:20180326T091031Z
LAST-MODIFIED:20180326T092156Z
X-BUSYMAC-LASTMODBY:Have Jess
X-APPLE-STRUCTURED-LOCATION;VALUE=URI;X-APPLE-RADIUS=705.888416;
 X-TITLE=Golf De Belenhaff\nGolf de Luxembourg Belenhaff\nBelenhaff\n6141 
 Junglinster\nLuxembourg:geo:49.732586,6.253615
BEGIN:VALARM
UID:9893D501-1D8E-4663-923F-C810CB63BD5F
TRIGGER;VALUE=DURATION:-PT1H
ACTION:AUDIO
ATTACH;VALUE=URI:Basso
END:VALARM
END:VEVENT
BEGIN:VEVENT
DTSTART;TZID=Europe/Luxembourg:20180523T170000
DTEND;TZID=Europe/Luxembourg:20180523T230000
SUMMARY:Fourth CITCO event
DESCRIPTION:Luxembourg course
LOCATION:Kikuoka Country Club\nScheierhaff\n5412 Lenningen\nLuxembourg
UID:78B83824-F8CD-471F-B627-59C77363ABA1
DTSTAMP:20180326T094425Z
CREATED:20180326T090343Z
LAST-MODIFIED:20180326T092218Z
X-BUSYMAC-LASTMODBY:Have Jess
X-APPLE-STRUCTURED-LOCATION;VALUE=URI;X-APPLE-RADIUS=1110.935318;
 X-TITLE=Kikuoka Country Club\nScheierhaff\n5412 Lenningen\nLuxembourg:geo:
 49.593014,6.313636
BEGIN:VALARM
UID:708EF3AB-0141-44AE-8536-FD274EC04EDD
TRIGGER;VALUE=DURATION:-PT1H
ACTION:AUDIO
ATTACH;VALUE=URI:Basso
END:VALARM
END:VEVENT
BEGIN:VEVENT
DTSTART;TZID=Europe/Luxembourg:20180502T170000
DTEND;TZID=Europe/Luxembourg:20180502T230000
SUMMARY:Second CITCO event
DESCRIPTION:Luxembourg course
LOCATION:Kikuoka Country Club\nScheierhaff\n5412 Lenningen\nLuxembourg
UID:08D56A23-E979-4911-A5D9-A5D657C96EF0
DTSTAMP:20180326T094425Z
CREATED:20180326T090343Z
LAST-MODIFIED:20180326T092223Z
X-BUSYMAC-LASTMODBY:Have Jess
X-APPLE-STRUCTURED-LOCATION;VALUE=URI;X-APPLE-RADIUS=1110.935318;
 X-TITLE=Kikuoka Country Club\nScheierhaff\n5412 Lenningen\nLuxembourg:geo:
 49.593014,6.313636
BEGIN:VALARM
UID:9C780C1B-DE80-43D7-87AF-B1C78D4384E8
TRIGGER;VALUE=DURATION:-PT1H
ACTION:AUDIO
ATTACH;VALUE=URI:Basso
END:VALARM
END:VEVENT
BEGIN:VEVENT
DTSTART;TZID=Europe/Luxembourg:20180815T090000
DTEND;TZID=Europe/Luxembourg:20180815T100000
SUMMARY:Spare event
DESCRIPTION:Spare date in case for cancellations.
LOCATION:Kikuoka Country Club\nScheierhaff\n5412 Lenningen\nLuxembourg
UID:23728341-8C59-482B-BDB3-0203A825A28B
DTSTAMP:20180326T094425Z
CREATED:20180326T091832Z
LAST-MODIFIED:20180326T092140Z
X-BUSYMAC-LASTMODBY:Have Jess
X-APPLE-STRUCTURED-LOCATION;VALUE=URI;X-APPLE-RADIUS=1110.935318;
 X-TITLE=Kikuoka Country Club\nScheierhaff\n5412 Lenningen\nLuxembourg:geo:
 49.593014,6.313636
BEGIN:VALARM
UID:1E0B7085-A275-4521-B096-53B0E258ECF2
TRIGGER;VALUE=DURATION:-PT1H
ACTION:AUDIO
ATTACH;VALUE=URI:Basso
END:VALARM
END:VEVENT
BEGIN:VEVENT
DTSTART;TZID=Europe/Luxembourg:20180516T170000
DTEND;TZID=Europe/Luxembourg:20180516T230000
SUMMARY:Third CITCO event
DESCRIPTION:France course
LOCATION:Preisch\n57570 Basse-Rentgen\nFrance
UID:9F3D735B-E783-42A1-98FD-64A138AC099A
DTSTAMP:20180326T094425Z
CREATED:20180326T090343Z
LAST-MODIFIED:20180326T092221Z
X-BUSYMAC-LASTMODBY:Have Jess
X-APPLE-STRUCTURED-LOCATION;VALUE=URI;X-APPLE-RADIUS=49.913064;
 X-TITLE=Preisch\n57570 Basse-Rentgen\nFrance:geo:49.498890,6.215526
BEGIN:VALARM
UID:2C5A509B-BA6E-4940-A22C-22605F2374D9
TRIGGER;VALUE=DURATION:-PT1H
ACTION:AUDIO
ATTACH;VALUE=URI:Basso
END:VALARM
END:VEVENT
BEGIN:VEVENT
DTSTART;TZID=Europe/Luxembourg:20180718T170000
DTEND;TZID=Europe/Luxembourg:20180718T230000
SUMMARY:Eighth CITCO event
DESCRIPTION:12 holes. First nine count for the CITCO event.
LOCATION:Golf De Belenhaff\nGolf de Luxembourg Belenhaff\nBelenhaff\n6141 
 Junglinster\nLuxembourg
UID:2C67C496-6FC5-4158-9A8C-C3F4526E9CED
DTSTAMP:20180326T094425Z
CREATED:20180326T091031Z
LAST-MODIFIED:20180326T092149Z
X-BUSYMAC-LASTMODBY:Have Jess
X-APPLE-STRUCTURED-LOCATION;VALUE=URI;X-APPLE-RADIUS=705.888416;
 X-TITLE=Golf De Belenhaff\nGolf de Luxembourg Belenhaff\nBelenhaff\n6141 
 Junglinster\nLuxembourg:geo:49.732586,6.253615
BEGIN:VALARM
UID:68C42D5C-705D-48F6-9315-DEDAD4D65DD3
TRIGGER;VALUE=DURATION:-PT1H
ACTION:AUDIO
ATTACH;VALUE=URI:Basso
END:VALARM
END:VEVENT
BEGIN:VEVENT
DTSTART;TZID=Europe/Luxembourg:20180912T170000
DTEND;TZID=Europe/Luxembourg:20180912T230000
SUMMARY:Tenth CITCO event
LOCATION:Kikuoka Country Club\nScheierhaff\n5412 Lenningen\nLuxembourg
UID:E2A5B9F7-C4EF-4BDD-9E54-BF33358F2E09
DTSTAMP:20180326T094425Z
CREATED:20180326T090836Z
LAST-MODIFIED:20180326T092121Z
X-BUSYMAC-LASTMODBY:Have Jess
X-APPLE-STRUCTURED-LOCATION;VALUE=URI;X-APPLE-RADIUS=1110.935318;
 X-TITLE=Kikuoka Country Club\nScheierhaff\n5412 Lenningen\nLuxembourg:geo:
 49.593014,6.313636
BEGIN:VALARM
UID:D754DBC0-FCBA-46A1-8BCF-8367AFDCF7C7
TRIGGER;VALUE=DURATION:-PT1H
ACTION:AUDIO
ATTACH;VALUE=URI:Basso
END:VALARM
END:VEVENT
BEGIN:VEVENT
DTSTART;TZID=Europe/Luxembourg:20180530T170000
DTEND;TZID=Europe/Luxembourg:20180530T230000
SUMMARY:Fifth CITCO event
DESCRIPTION:Luxembourg course
LOCATION:Preisch\n57570 Basse-Rentgen\nFrance
UID:34708197-F835-4F28-884D-A75E4D216C00
DTSTAMP:20180326T094425Z
CREATED:20180326T090343Z
LAST-MODIFIED:20180326T092211Z
X-BUSYMAC-LASTMODBY:Have Jess
X-APPLE-STRUCTURED-LOCATION;VALUE=URI;X-APPLE-RADIUS=49.913064;
 X-TITLE=Preisch\n57570 Basse-Rentgen\nFrance:geo:49.498890,6.215526
BEGIN:VALARM
UID:773D85D0-BF85-452D-BBD5-CADEC65FF1AA
TRIGGER;VALUE=DURATION:-PT1H
ACTION:AUDIO
ATTACH;VALUE=URI:Basso
END:VALARM
END:VEVENT
BEGIN:VEVENT
DTSTART;TZID=Europe/Luxembourg:20180714T090000
DTEND;TZID=Europe/Luxembourg:20180714T170000
SUMMARY:Ryder Cup (Frogs v Golfaholics)
LOCATION:Kikuoka Country Club\nScheierhaff\n5412 Lenningen\nLuxembourg
UID:3C93605D-4D78-4081-AF3D-A209FF3C700E
DTSTAMP:20180326T094425Z
CREATED:20180326T091744Z
LAST-MODIFIED:20180326T092153Z
X-BUSYMAC-LASTMODBY:Have Jess
X-APPLE-STRUCTURED-LOCATION;VALUE=URI;X-APPLE-RADIUS=1110.935318;
 X-TITLE=Kikuoka Country Club\nScheierhaff\n5412 Lenningen\nLuxembourg:geo:
 49.593014,6.313636
BEGIN:VALARM
UID:7209C5C4-5EF3-4EED-9F19-0D9235D1792E
TRIGGER;VALUE=DURATION:-PT1H
ACTION:AUDIO
ATTACH;VALUE=URI:Basso
END:VALARM
END:VEVENT
BEGIN:VEVENT
DTSTART;TZID=Europe/Luxembourg:20180425T170000
DTEND;TZID=Europe/Luxembourg:20180425T230000
SUMMARY:First CITCO event
DESCRIPTION:Luxembourg course
LOCATION:Preisch\n57570 Basse-Rentgen\nFrance
UID:464F536A-8A98-4E2D-9A95-368D5013FBB2
DTSTAMP:20180326T094425Z
CREATED:20180326T090343Z
LAST-MODIFIED:20180326T092226Z
X-BUSYMAC-LASTMODBY:Have Jess
X-APPLE-STRUCTURED-LOCATION;VALUE=URI;X-APPLE-RADIUS=49.913064;
 X-TITLE=Preisch\n57570 Basse-Rentgen\nFrance:geo:49.498890,6.215526
BEGIN:VALARM
UID:2375BD3E-C7B6-4DDC-BB16-60FA56691242
TRIGGER;VALUE=DURATION:-PT1H
ACTION:AUDIO
ATTACH;VALUE=URI:Basso
END:VALARM
END:VEVENT
BEGIN:VEVENT
DTSTART;TZID=Europe/Luxembourg:20180829T170000
DTEND;TZID=Europe/Luxembourg:20180829T230000
SUMMARY:Ninth CITCO event
LOCATION:Golf Club Grand Ducal de Luxembourg\nRoute de Trèves 1\n2633 
 Niederanven\nLuxembourg
UID:53983D30-7CC3-4335-90DB-FC614CE3B74B
DTSTAMP:20180326T094425Z
CREATED:20180326T090938Z
LAST-MODIFIED:20180326T092128Z
X-BUSYMAC-LASTMODBY:Have Jess
X-APPLE-STRUCTURED-LOCATION;VALUE=URI;X-APPLE-RADIUS=705.888362;
 X-TITLE=Golf Club Grand Ducal de Luxembourg\nRoute de Trèves 1\n2633 
 Niederanven\nLuxembourg:geo:49.639053,6.212134
BEGIN:VALARM
UID:65C139D0-B1FF-4BCB-97B8-DD8A9A8B5F99
TRIGGER;VALUE=DURATION:-PT1H
ACTION:AUDIO
ATTACH;VALUE=URI:Basso
END:VALARM
END:VEVENT
END:VCALENDAR
